BEGIN:VCALENDAR
VERSION:2.0
PRODID:-//wp-events-plugin.com//7.2.3.1//EN
BEGIN:VEVENT
UID:12@punakha.gov.bt
DTSTART;TZID=Asia/Thimphu:20250611T090000
DTEND;TZID=Asia/Thimphu:20250611T130000
DTSTAMP:20250524T060747Z
URL:https://punakha.gov.bt/events/world-water-day-rgb/
SUMMARY:Civil Service Marathon
DESCRIPTION:Tomorrow is the last day for registration for the celebration o
 f civil service wellness day. This event is being coordinated all over the
  country.\nParticipation is open to all (civil servants\, non-civil servan
 t and former civil servants).\nTo register for marathon- Click the link he
 re\nTo register for Sorig-Zhiney/Zumba: Click the link here
ATTACH;FMTTYPE=image/jpeg:https://punakha.gov.bt/wp-content/uploads/2025/0
 5/Civil-Service-Registration.jpg
CATEGORIES:Meetings
LOCATION:Punakha\, Bhutan\, Punakha Dzongkhag Administration\, Punakha\, Bh
 utan\, Bhutan
X-APPLE-STRUCTURED-LOCATION;VALUE=URI;X-ADDRESS=Punakha Dzongkhag Administr
 ation\, Punakha\, Bhutan\, Bhutan;X-APPLE-RADIUS=100;X-TITLE=Punakha\, Bhu
 tan:geo:0,0
END:VEVENT
BEGIN:VTIMEZONE
TZID:Asia/Thimphu
X-LIC-LOCATION:Asia/Thimphu
BEGIN:STANDARD
DTSTART:20240611T090000
TZOFFSETFROM:+0600
TZOFFSETTO:+0600
TZNAME:+06
END:STANDARD
END:VTIMEZONE
END:VCALENDAR